BEGIN:VCALENDAR
VERSION:2.0
CALSCALE:GREGORIAN
PRODID:-//Diputació de Barcelona//DibaCMS//EN
BEGIN:VEVENT
UID:29499
DTSTAMP:20260422T205319
DTSTART:20240531T090000
DTEND:20240531T090000
SUMMARY:Acte. Jornades Pla Educatiu Entorn
LOCATION:
METHOD:PUBLISH
X-WR-CALNAME:oac@montcada.org
X-WR-TIMEZONE:Europe/Madrid
DESCRIPTION:
URI:https://www.montcada.cat/ajuntament/govern/agenda-politica/hemeroteca-agenda-politica/acte-jornades-pla-educatiu-entorn.html
CLASS:PUBLIC
END:VEVENT
END:VCALENDAR
