BEGIN:VCALENDAR
VERSION:2.0
CALSCALE:GREGORIAN
PRODID:-//Diputació de Barcelona//DibaCMS//EN
BEGIN:VEVENT
UID:29489
DTSTAMP:20260422T145348
DTSTART:20240528T110000
DTEND:20240528T110000
SUMMARY:Acte. Commemoració dels 50 anys Escola Mitja Costa
LOCATION:Avinguda Terra Nostra, s/n       08110 Montcada i Reixac
METHOD:PUBLISH
X-WR-CALNAME:oac@montcada.org
X-WR-TIMEZONE:Europe/Madrid
DESCRIPTION:
URI:https://www.montcada.cat/ajuntament/govern/agenda-politica/hemeroteca-agenda-politica/acte-commemoracio-dels-50-anys-escola-mitja-costa.html
CLASS:PUBLIC
END:VEVENT
END:VCALENDAR
