BEGIN:VCALENDAR
VERSION:2.0
CALSCALE:GREGORIAN
PRODID:-//Diputació de Barcelona//DibaCMS//EN
BEGIN:VEVENT
UID:29484
DTSTAMP:20260422T133745
DTSTART:20240525T190000
DTEND:20240525T190000
SUMMARY:Acte. 4a Cantada d'Havaneres - Memòrial Pere Ferrer
LOCATION:Carretera de la Vallençana, km 7  08110 Montcada i Reixac
METHOD:PUBLISH
X-WR-CALNAME:oac@montcada.org
X-WR-TIMEZONE:Europe/Madrid
DESCRIPTION:
URI:https://www.montcada.cat/ajuntament/govern/agenda-politica/hemeroteca-agenda-politica/acte-4a-cantada-dhavaneres-memorial-pere-ferrer.html
CLASS:PUBLIC
END:VEVENT
END:VCALENDAR
