BEGIN:VCALENDAR
VERSION:2.0
CALSCALE:GREGORIAN
PRODID:-//Diputació de Barcelona//DibaCMS//EN
BEGIN:VEVENT
UID:29476
DTSTAMP:20260422T145242
DTSTART:20240523T170000
DTEND:20240523T170000
SUMMARY:Acte. Consell escolar Mas Rampinyo
LOCATION:
METHOD:PUBLISH
X-WR-CALNAME:oac@montcada.org
X-WR-TIMEZONE:Europe/Madrid
DESCRIPTION:
URI:https://www.montcada.cat/ajuntament/govern/agenda-politica/hemeroteca-agenda-politica/acte-consell-escolar-mas-rampinyo.html
CLASS:PUBLIC
END:VEVENT
END:VCALENDAR
