BEGIN:VCALENDAR
VERSION:2.0
CALSCALE:GREGORIAN
PRODID:-//Diputació de Barcelona//DibaCMS//EN
BEGIN:VEVENT
UID:29473
DTSTAMP:20260422T133638
DTSTART:20240523T103000
DTEND:20240523T103000
SUMMARY:Reunió. Entitat Som Tennis Taula
LOCATION:
METHOD:PUBLISH
X-WR-CALNAME:oac@montcada.org
X-WR-TIMEZONE:Europe/Madrid
DESCRIPTION:
URI:https://www.montcada.cat/ajuntament/govern/agenda-politica/hemeroteca-agenda-politica/reunio-entitat-som-tennis-taula.html
CLASS:PUBLIC
END:VEVENT
END:VCALENDAR
