BEGIN:VCALENDAR
VERSION:2.0
CALSCALE:GREGORIAN
PRODID:-//Diputació de Barcelona//DibaCMS//EN
BEGIN:VEVENT
UID:29471
DTSTAMP:20260426T045213
DTSTART:20240528T000000
DTEND:20240610T000000
SUMMARY:Exposició. Saps de què està fet el teu mòbil
LOCATION: c. Turó, 45       08110 Montcada i Reixac
METHOD:PUBLISH
X-WR-CALNAME:oac@montcada.org
X-WR-TIMEZONE:Europe/Madrid
DESCRIPTION:
URI:https://www.montcada.cat/actualitat/agenda/29471-exposicio-saps-de-que-esta-fet-el-teu-mobil.html
CLASS:PUBLIC
END:VEVENT
END:VCALENDAR
