BEGIN:VCALENDAR
VERSION:2.0
CALSCALE:GREGORIAN
PRODID:-//Diputació de Barcelona//DibaCMS//EN
BEGIN:VEVENT
UID:29470
DTSTAMP:20260425T222725
DTSTART:20240607T171500
DTEND:20240607T171500
SUMMARY:Taller. Tast de xocolata amb els cinc sentits
LOCATION:Carrer Geranis, s/n       08110 Montcada i Reixac
METHOD:PUBLISH
X-WR-CALNAME:oac@montcada.org
X-WR-TIMEZONE:Europe/Madrid
DESCRIPTION:
URI:https://www.montcada.cat/actualitat/agenda/taller-tast-de-xocolata-amb-els-cinc-sentits.html
CLASS:PUBLIC
END:VEVENT
END:VCALENDAR
