BEGIN:VCALENDAR
VERSION:2.0
CALSCALE:GREGORIAN
PRODID:-//Diputació de Barcelona//DibaCMS//EN
BEGIN:VEVENT
UID:29468
DTSTAMP:20260426T062803
DTSTART:20240528T183000
DTEND:20240528T183000
SUMMARY:Xerrada-col·loqui. El pes de la història a la identitat blaugrana
LOCATION: pl. de l'Església, 12       08110 Montcada i Reixac
METHOD:PUBLISH
X-WR-CALNAME:oac@montcada.org
X-WR-TIMEZONE:Europe/Madrid
DESCRIPTION:Amb motiu del 50è aniversari de la Penya Barcelonista, amb Enric Calpena i en Josep Maria Solé i Sabaté

URI:https://www.montcada.cat/actualitat/agenda/xerrada-colloqui-el-pes-de-la-historia-a-la-identitat-blaugrana.html
CLASS:PUBLIC
END:VEVENT
END:VCALENDAR
