BEGIN:VCALENDAR
VERSION:2.0
CALSCALE:GREGORIAN
PRODID:-//Diputació de Barcelona//DibaCMS//EN
BEGIN:VEVENT
UID:29415
DTSTAMP:20260422T205229
DTSTART:20240520T110000
DTEND:20240520T110000
SUMMARY:Acte. 42a Arrossada Popular i 46è Concurs d'arròs a la cassola
LOCATION:camí de la Font Freda 08110 Montcada i Reixac
METHOD:PUBLISH
X-WR-CALNAME:oac@montcada.org
X-WR-TIMEZONE:Europe/Madrid
DESCRIPTION:
URI:https://www.montcada.cat/ajuntament/govern/agenda-politica/hemeroteca-agenda-politica/acte-42a-arrossada-popular-i-46e-concurs-darros-a-la-cassola.html
CLASS:PUBLIC
END:VEVENT
END:VCALENDAR
