BEGIN:VCALENDAR
VERSION:2.0
CALSCALE:GREGORIAN
PRODID:-//Diputació de Barcelona//DibaCMS//EN
BEGIN:VEVENT
UID:29413
DTSTAMP:20260422T202259
DTSTART:20240519T210000
DTEND:20240519T210000
SUMMARY:Acte. Havaneres i Cremat de Rom
LOCATION:08110 Montcada i Reixac
METHOD:PUBLISH
X-WR-CALNAME:oac@montcada.org
X-WR-TIMEZONE:Europe/Madrid
DESCRIPTION:
URI:https://www.montcada.cat/ajuntament/govern/agenda-politica/hemeroteca-agenda-politica/acte-havaneres-i-cremat-de-rom.html
CLASS:PUBLIC
END:VEVENT
END:VCALENDAR
