BEGIN:VCALENDAR
VERSION:2.0
CALSCALE:GREGORIAN
PRODID:-//Diputació de Barcelona//DibaCMS//EN
BEGIN:VEVENT
UID:29407
DTSTAMP:20260422T232500
DTSTART:20240519T114000
DTEND:20240519T114000
SUMMARY:Acte. XVII Milla Urbana de MiR: Lliurament obsequis
LOCATION:
METHOD:PUBLISH
X-WR-CALNAME:oac@montcada.org
X-WR-TIMEZONE:Europe/Madrid
DESCRIPTION:
URI:https://www.montcada.cat/ajuntament/govern/agenda-politica/hemeroteca-agenda-politica/acte-xvii-milla-urbana-de-mir-lliurament-obsequis.html
CLASS:PUBLIC
END:VEVENT
END:VCALENDAR
