BEGIN:VCALENDAR
VERSION:2.0
CALSCALE:GREGORIAN
PRODID:-//Diputació de Barcelona//DibaCMS//EN
BEGIN:VEVENT
UID:29404
DTSTAMP:20260422T145201
DTSTART:20240518T230000
DTEND:20240518T230000
SUMMARY:Acte. Concert Nancys Rubias
LOCATION:camí de la Font Freda 08110 Montcada i Reixac
METHOD:PUBLISH
X-WR-CALNAME:oac@montcada.org
X-WR-TIMEZONE:Europe/Madrid
DESCRIPTION:
URI:https://www.montcada.cat/ajuntament/govern/agenda-politica/hemeroteca-agenda-politica/acte-concert-nancys-rubias.html
CLASS:PUBLIC
END:VEVENT
END:VCALENDAR
