BEGIN:VCALENDAR
VERSION:2.0
CALSCALE:GREGORIAN
PRODID:-//Diputació de Barcelona//DibaCMS//EN
BEGIN:VEVENT
UID:29398
DTSTAMP:20260423T052005
DTSTART:20240518T100000
DTEND:20240518T100000
SUMMARY:Acte. Exhibició i Tastet de Tir amb arc en línia: Lliurament de premis
LOCATION:Camí de la Font Freda, 3       08110 Montcada i Reixac
METHOD:PUBLISH
X-WR-CALNAME:oac@montcada.org
X-WR-TIMEZONE:Europe/Madrid
DESCRIPTION:
URI:https://www.montcada.cat/ajuntament/govern/agenda-politica/hemeroteca-agenda-politica/acte-exhibicio-i-tastet-de-tir-amb-arc-en-linia-lliurament-de-premis.html
CLASS:PUBLIC
END:VEVENT
END:VCALENDAR
