BEGIN:VCALENDAR
VERSION:2.0
CALSCALE:GREGORIAN
PRODID:-//Diputació de Barcelona//DibaCMS//EN
BEGIN:VEVENT
UID:29391
DTSTAMP:20260423T023853
DTSTART:20240517T180000
DTEND:20240517T180000
SUMMARY:Acte. Lectura manifest Dia contra l'LGTBIFÒBIA
LOCATION:Carrer Major (Casa de la Vila) 
METHOD:PUBLISH
X-WR-CALNAME:oac@montcada.org
X-WR-TIMEZONE:Europe/Madrid
DESCRIPTION:
URI:https://www.montcada.cat/ajuntament/govern/agenda-politica/hemeroteca-agenda-politica/acte-lectura-manifest-dia-contra-llgtbifobia.html
CLASS:PUBLIC
END:VEVENT
END:VCALENDAR
