BEGIN:VCALENDAR
VERSION:2.0
CALSCALE:GREGORIAN
PRODID:-//Diputació de Barcelona//DibaCMS//EN
BEGIN:VEVENT
UID:29381
DTSTAMP:20260426T032024
DTSTART:20240530T100000
DTEND:20240531T120000
SUMMARY:Mercat jove gratuït d'intercanvi de roba
LOCATION:plaça de la ribera, 0 08110 Montcada i Reixac
METHOD:PUBLISH
X-WR-CALNAME:oac@montcada.org
X-WR-TIMEZONE:Europe/Madrid
DESCRIPTION:Si ja no et val, passa-la!

URI:https://www.montcada.cat/actualitat/agenda/mercat-jove-gratuit-dintercanvi-de-roba.html
CLASS:PUBLIC
END:VEVENT
END:VCALENDAR
