BEGIN:VCALENDAR
VERSION:2.0
CALSCALE:GREGORIAN
PRODID:-//Diputació de Barcelona//DibaCMS//EN
BEGIN:VEVENT
UID:29380
DTSTAMP:20260425T222748
DTSTART:20240606T160000
DTEND:20240607T190000
SUMMARY:Mercat gratuït d'intercanvi de roba
LOCATION:plaça de la ribera, 0 08110 Montcada i Reixac
METHOD:PUBLISH
X-WR-CALNAME:oac@montcada.org
X-WR-TIMEZONE:Europe/Madrid
DESCRIPTION:Si ja no et val, passa-la!

URI:https://www.montcada.cat/actualitat/agenda/29380-mercat-gratuit-dintercanvi-de-roba.html
CLASS:PUBLIC
END:VEVENT
END:VCALENDAR
