BEGIN:VCALENDAR
VERSION:2.0
CALSCALE:GREGORIAN
PRODID:-//Diputació de Barcelona//DibaCMS//EN
BEGIN:VEVENT
UID:29378
DTSTAMP:20260426T061039
DTSTART:20240527T203000
DTEND:20240629T003000
SUMMARY:Aules d'estudi nocturn
LOCATION:
METHOD:PUBLISH
X-WR-CALNAME:oac@montcada.org
X-WR-TIMEZONE:Europe/Madrid
DESCRIPTION:
URI:https://www.montcada.cat/actualitat/agenda/29378-aules-destudi-nocturn.html
CLASS:PUBLIC
END:VEVENT
END:VCALENDAR
