BEGIN:VCALENDAR
VERSION:2.0
CALSCALE:GREGORIAN
PRODID:-//Diputació de Barcelona//DibaCMS//EN
BEGIN:VEVENT
UID:29376
DTSTAMP:20260426T062639
DTSTART:20240523T190000
DTEND:20240523T190000
SUMMARY:Conferència. El canvi climàtic i l'energia. Èxit i fracàs de la civilització.
LOCATION:Carrer Major, 47       08110 Montcada i Reixac
METHOD:PUBLISH
X-WR-CALNAME:oac@montcada.org
X-WR-TIMEZONE:Europe/Madrid
DESCRIPTION:A càrrec de Ferran Vallespinós Riera

URI:https://www.montcada.cat/actualitat/agenda/conferencia-el-canvi-climatic-i-lenergia-exit-i-fracas-de-la-civilitzacio.html
CLASS:PUBLIC
END:VEVENT
END:VCALENDAR
