BEGIN:VCALENDAR
VERSION:2.0
CALSCALE:GREGORIAN
PRODID:-//Diputació de Barcelona//DibaCMS//EN
BEGIN:VEVENT
UID:29333
DTSTAMP:20260426T014149
DTSTART:20240531T190000
DTEND:20240602T120000
SUMMARY:Festa Major Font Pudenta-Muntanyeta 2024
LOCATION:
METHOD:PUBLISH
X-WR-CALNAME:oac@montcada.org
X-WR-TIMEZONE:Europe/Madrid
DESCRIPTION:
URI:https://www.montcada.cat/actualitat/agenda/festa-major-font-pudenta-muntanyeta-2024.html
CLASS:PUBLIC
END:VEVENT
END:VCALENDAR
