BEGIN:VCALENDAR
VERSION:2.0
CALSCALE:GREGORIAN
PRODID:-//Diputació de Barcelona//DibaCMS//EN
BEGIN:VEVENT
UID:29332
DTSTAMP:20260426T062416
DTSTART:20240524T171500
DTEND:20240524T191500
SUMMARY:Tarda de jocs de taula
LOCATION:Carrer Geranis, s/n       08110 Montcada i Reixac
METHOD:PUBLISH
X-WR-CALNAME:oac@montcada.org
X-WR-TIMEZONE:Europe/Madrid
DESCRIPTION:
	Jocs infantils i juvenils, per a adults i per a gent gran
	Populars i moderns


URI:https://www.montcada.cat/actualitat/agenda/tarda-de-jocs-de-taula.html
CLASS:PUBLIC
END:VEVENT
END:VCALENDAR
