BEGIN:VCALENDAR
VERSION:2.0
CALSCALE:GREGORIAN
PRODID:-//Diputació de Barcelona//DibaCMS//EN
BEGIN:VEVENT
UID:29325
DTSTAMP:20260423T050244
DTSTART:20240516T180000
DTEND:20240516T180000
SUMMARY:Acte. Inici Festa Major
LOCATION:08110 Montcada i Reixac
METHOD:PUBLISH
X-WR-CALNAME:oac@montcada.org
X-WR-TIMEZONE:Europe/Madrid
DESCRIPTION:
URI:https://www.montcada.cat/ajuntament/govern/agenda-politica/hemeroteca-agenda-politica/acte-inici-festa-major.html
CLASS:PUBLIC
END:VEVENT
END:VCALENDAR
