BEGIN:VCALENDAR
VERSION:2.0
CALSCALE:GREGORIAN
PRODID:-//Diputació de Barcelona//DibaCMS//EN
BEGIN:VEVENT
UID:29301
DTSTAMP:20260422T204548
DTSTART:20240509T193000
DTEND:20240509T193000
SUMMARY:Acte. Inauguració exposició pintura Luís Silva
LOCATION: c. Masia, 39       08110 Montcada i Reixac
METHOD:PUBLISH
X-WR-CALNAME:oac@montcada.org
X-WR-TIMEZONE:Europe/Madrid
DESCRIPTION:
URI:https://www.montcada.cat/ajuntament/govern/agenda-politica/hemeroteca-agenda-politica/acte-inauguracio-exposicio-pintura-luis-silva.html
CLASS:PUBLIC
END:VEVENT
END:VCALENDAR
