BEGIN:VCALENDAR
VERSION:2.0
CALSCALE:GREGORIAN
PRODID:-//Diputació de Barcelona//DibaCMS//EN
BEGIN:VEVENT
UID:29244
DTSTAMP:20260426T013340
DTSTART:20240601T090000
DTEND:20240601T090000
SUMMARY:VII edició Reviu Les Maleses
LOCATION:Plaça Lluís Companys 08110 Montcada i Reixac
METHOD:PUBLISH
X-WR-CALNAME:oac@montcada.org
X-WR-TIMEZONE:Europe/Madrid
DESCRIPTION:Caminada popular al poblat ibèric i recreació històrica

URI:https://www.montcada.cat/actualitat/agenda/vii-edicio-reviu-les-maleses.html
CLASS:PUBLIC
END:VEVENT
END:VCALENDAR
