BEGIN:VCALENDAR
VERSION:2.0
CALSCALE:GREGORIAN
PRODID:-//Diputació de Barcelona//DibaCMS//EN
BEGIN:VEVENT
UID:29185
DTSTAMP:20260423T023035
DTSTART:20240516T093000
DTEND:20240516T093000
SUMMARY:Reunió. Observatori Ambiental Litoral-Besòs (OAB)
LOCATION:Av. de la Unitat, 6 08110  Montcada i Reixac
METHOD:PUBLISH
X-WR-CALNAME:oac@montcada.org
X-WR-TIMEZONE:Europe/Madrid
DESCRIPTION:
URI:https://www.montcada.cat/ajuntament/govern/agenda-politica/hemeroteca-agenda-politica/reunio-observatori-ambiental-litoral-besos-oab.html
CLASS:PUBLIC
END:VEVENT
END:VCALENDAR
