BEGIN:VCALENDAR
VERSION:2.0
CALSCALE:GREGORIAN
PRODID:-//Diputació de Barcelona//DibaCMS//EN
BEGIN:VEVENT
UID:29176
DTSTAMP:20260426T032824
DTSTART:20240530T190000
DTEND:20240530T190000
SUMMARY:Club de lectura sci-fi. Nascuts per ser breus
LOCATION:
METHOD:PUBLISH
X-WR-CALNAME:oac@montcada.org
X-WR-TIMEZONE:Europe/Madrid
DESCRIPTION:De Toni Mota

URI:https://www.montcada.cat/actualitat/agenda/club-de-lectura-sci-fi-nascuts-per-ser-breus.html
CLASS:PUBLIC
END:VEVENT
END:VCALENDAR
