BEGIN:VCALENDAR
VERSION:2.0
CALSCALE:GREGORIAN
PRODID:-//Diputació de Barcelona//DibaCMS//EN
BEGIN:VEVENT
UID:29175
DTSTAMP:20260426T031635
DTSTART:20240529T190000
DTEND:20240529T190000
SUMMARY:Club de lectura feminista. El resurgir de Antígona
LOCATION: c. Tarragona, 32       08110 Montcada i Reixac
METHOD:PUBLISH
X-WR-CALNAME:oac@montcada.org
X-WR-TIMEZONE:Europe/Madrid
DESCRIPTION:De Helen Morales

URI:https://www.montcada.cat/actualitat/agenda/29175-club-de-lectura-feminista-el-resurgir-de-antigona.html
CLASS:PUBLIC
END:VEVENT
END:VCALENDAR
