BEGIN:VCALENDAR
VERSION:2.0
CALSCALE:GREGORIAN
PRODID:-//Diputació de Barcelona//DibaCMS//EN
BEGIN:VEVENT
UID:29150
DTSTAMP:20260422T174045
DTSTART:20240511T100000
DTEND:20240511T100000
SUMMARY:Acte. Let's Clean Europe 2024
LOCATION:Riu Ripoll, davant del Col·legi La Salle 
METHOD:PUBLISH
X-WR-CALNAME:oac@montcada.org
X-WR-TIMEZONE:Europe/Madrid
DESCRIPTION:
URI:https://www.montcada.cat/ajuntament/govern/agenda-politica/hemeroteca-agenda-politica/acte-lets-clean-europe-2024.html
CLASS:PUBLIC
END:VEVENT
END:VCALENDAR
