BEGIN:VCALENDAR
VERSION:2.0
CALSCALE:GREGORIAN
PRODID:-//Diputació de Barcelona//DibaCMS//EN
BEGIN:VEVENT
UID:29149
DTSTAMP:20260422T204914
DTSTART:20240510T183000
DTEND:20240510T183000
SUMMARY:Acte. Concert Cloenda Cabal Musical 2022-2024
LOCATION:Carrer Tarragona, 32       08110 Montcada i Reixac
METHOD:PUBLISH
X-WR-CALNAME:oac@montcada.org
X-WR-TIMEZONE:Europe/Madrid
DESCRIPTION:
URI:https://www.montcada.cat/ajuntament/govern/agenda-politica/hemeroteca-agenda-politica/acte-concert-cloenda-cabal-musical-2022-2024.html
CLASS:PUBLIC
END:VEVENT
END:VCALENDAR
