BEGIN:VCALENDAR
VERSION:2.0
CALSCALE:GREGORIAN
PRODID:-//Diputació de Barcelona//DibaCMS//EN
BEGIN:VEVENT
UID:29148
DTSTAMP:20260422T220426
DTSTART:20240509T120000
DTEND:20240509T120000
SUMMARY:Reunió. Ángel Contreras, president d'ADIF
LOCATION:Madrid 
METHOD:PUBLISH
X-WR-CALNAME:oac@montcada.org
X-WR-TIMEZONE:Europe/Madrid
DESCRIPTION:
URI:https://www.montcada.cat/ajuntament/govern/agenda-politica/hemeroteca-agenda-politica/reunio-angel-contreras-president-dadif.html
CLASS:PUBLIC
END:VEVENT
END:VCALENDAR
