BEGIN:VCALENDAR
VERSION:2.0
CALSCALE:GREGORIAN
PRODID:-//Diputació de Barcelona//DibaCMS//EN
BEGIN:VEVENT
UID:29147
DTSTAMP:20260422T232525
DTSTART:20240502T150000
DTEND:20240502T150000
SUMMARY:Entrevista. Estudiants UAB
LOCATION:Av. de la Unitat, 6 08110  Montcada i Reixac
METHOD:PUBLISH
X-WR-CALNAME:oac@montcada.org
X-WR-TIMEZONE:Europe/Madrid
DESCRIPTION:
URI:https://www.montcada.cat/ajuntament/govern/agenda-politica/hemeroteca-agenda-politica/entrevista-estudiants-uab.html
CLASS:PUBLIC
END:VEVENT
END:VCALENDAR
