BEGIN:VCALENDAR
VERSION:2.0
CALSCALE:GREGORIAN
PRODID:-//Diputació de Barcelona//DibaCMS//EN
BEGIN:VEVENT
UID:29145
DTSTAMP:20260422T204758
DTSTART:20240501T210000
DTEND:20240501T210000
SUMMARY:Acte. Correfoc Festa Major Mas Rampinyo
LOCATION:
METHOD:PUBLISH
X-WR-CALNAME:oac@montcada.org
X-WR-TIMEZONE:Europe/Madrid
DESCRIPTION:
URI:https://www.montcada.cat/ajuntament/govern/agenda-politica/hemeroteca-agenda-politica/acte-correfoc-festa-major-mas-rampinyo.html
CLASS:PUBLIC
END:VEVENT
END:VCALENDAR
