BEGIN:VCALENDAR
VERSION:2.0
CALSCALE:GREGORIAN
PRODID:-//Diputació de Barcelona//DibaCMS//EN
BEGIN:VEVENT
UID:29125
DTSTAMP:20260423T005255
DTSTART:20240507T123000
DTEND:20240507T123000
SUMMARY:Junta de Govern Local
LOCATION:Av. de la Unitat, 6 08110  Montcada i Reixac
METHOD:PUBLISH
X-WR-CALNAME:oac@montcada.org
X-WR-TIMEZONE:Europe/Madrid
DESCRIPTION:
URI:https://www.montcada.cat/ajuntament/govern/agenda-politica/hemeroteca-agenda-politica/29125-junta-de-govern-local.html
CLASS:PUBLIC
END:VEVENT
END:VCALENDAR
