BEGIN:VCALENDAR
VERSION:2.0
CALSCALE:GREGORIAN
PRODID:-//Diputació de Barcelona//DibaCMS//EN
BEGIN:VEVENT
UID:29119
DTSTAMP:20260422T204224
DTSTART:20240503T100000
DTEND:20240503T100000
SUMMARY:Reunió. Abdul Razzaq, president comunitat paquistaní
LOCATION:Av. de la Unitat, 6 08110  Montcada i Reixac
METHOD:PUBLISH
X-WR-CALNAME:oac@montcada.org
X-WR-TIMEZONE:Europe/Madrid
DESCRIPTION:
URI:https://www.montcada.cat/ajuntament/govern/agenda-politica/hemeroteca-agenda-politica/reunio-abdul-razzaq-president-comunitat-paquistani.html
CLASS:PUBLIC
END:VEVENT
END:VCALENDAR
