BEGIN:VCALENDAR
VERSION:2.0
CALSCALE:GREGORIAN
PRODID:-//Diputació de Barcelona//DibaCMS//EN
BEGIN:VEVENT
UID:29118
DTSTAMP:20260422T204124
DTSTART:20240502T190000
DTEND:20240502T190000
SUMMARY:Acte. Presentació Festa Major 2024
LOCATION: pl. de l'Església, 12       08110 Montcada i Reixac
METHOD:PUBLISH
X-WR-CALNAME:oac@montcada.org
X-WR-TIMEZONE:Europe/Madrid
DESCRIPTION:
URI:https://www.montcada.cat/ajuntament/govern/agenda-politica/hemeroteca-agenda-politica/acte-presentacio-festa-major-2024.html
CLASS:PUBLIC
END:VEVENT
END:VCALENDAR
