BEGIN:VCALENDAR
VERSION:2.0
CALSCALE:GREGORIAN
PRODID:-//Diputació de Barcelona//DibaCMS//EN
BEGIN:VEVENT
UID:29036
DTSTAMP:20260423T145717
DTSTART:20240430T113000
DTEND:20240430T113000
SUMMARY:Reunió. Consell d'Alcaldes AMB
LOCATION:
METHOD:PUBLISH
X-WR-CALNAME:oac@montcada.org
X-WR-TIMEZONE:Europe/Madrid
DESCRIPTION:
URI:https://www.montcada.cat/ajuntament/govern/agenda-politica/hemeroteca-agenda-politica/reunio-consell-dalcaldes-amb.html
CLASS:PUBLIC
END:VEVENT
END:VCALENDAR
