BEGIN:VCALENDAR
VERSION:2.0
CALSCALE:GREGORIAN
PRODID:-//Diputació de Barcelona//DibaCMS//EN
BEGIN:VEVENT
UID:29035
DTSTAMP:20260422T233634
DTSTART:20240430T110000
DTEND:20240430T110000
SUMMARY:Reunió. Comissió Institucional redactora i de seguiment del PAM
LOCATION:
METHOD:PUBLISH
X-WR-CALNAME:oac@montcada.org
X-WR-TIMEZONE:Europe/Madrid
DESCRIPTION:
URI:https://www.montcada.cat/ajuntament/govern/agenda-politica/hemeroteca-agenda-politica/reunio-comissio-institucional-redactora-i-de-seguiment-del-pam.html
CLASS:PUBLIC
END:VEVENT
END:VCALENDAR
