BEGIN:VCALENDAR
VERSION:2.0
CALSCALE:GREGORIAN
PRODID:-//Diputació de Barcelona//DibaCMS//EN
BEGIN:VEVENT
UID:29030
DTSTAMP:20260423T010719
DTSTART:20240428T103000
DTEND:20240428T103000
SUMMARY:Acte. Cercavila Festa Major Mas Rampinyo
LOCATION:
METHOD:PUBLISH
X-WR-CALNAME:oac@montcada.org
X-WR-TIMEZONE:Europe/Madrid
DESCRIPTION:
URI:https://www.montcada.cat/ajuntament/govern/agenda-politica/hemeroteca-agenda-politica/acte-cercavila-festa-major-mas-rampinyo.html
CLASS:PUBLIC
END:VEVENT
END:VCALENDAR
