BEGIN:VCALENDAR
VERSION:2.0
CALSCALE:GREGORIAN
PRODID:-//Diputació de Barcelona//DibaCMS//EN
BEGIN:VEVENT
UID:29028
DTSTAMP:20260423T010907
DTSTART:20240427T130000
DTEND:20240427T130000
SUMMARY:Acte. Mostra i degustació cuina
LOCATION:Carrer Baix de Sant Pere, 15       08110 Montcada i Reixac
METHOD:PUBLISH
X-WR-CALNAME:oac@montcada.org
X-WR-TIMEZONE:Europe/Madrid
DESCRIPTION:
URI:https://www.montcada.cat/ajuntament/govern/agenda-politica/hemeroteca-agenda-politica/acte-mostra-i-degustacio-cuina.html
CLASS:PUBLIC
END:VEVENT
END:VCALENDAR
