BEGIN:VCALENDAR
VERSION:2.0
CALSCALE:GREGORIAN
PRODID:-//Diputació de Barcelona//DibaCMS//EN
BEGIN:VEVENT
UID:28996
DTSTAMP:20260425T210310
DTSTART:20240610T170000
DTEND:20240717T210000
SUMMARY:Exposició. Diferents de qui? Som úniques
LOCATION:Carrer Geranis, s/n       08110 Montcada i Reixac
METHOD:PUBLISH
X-WR-CALNAME:oac@montcada.org
X-WR-TIMEZONE:Europe/Madrid
DESCRIPTION:
URI:https://www.montcada.cat/actualitat/agenda/28996-exposicio-diferents-de-qui-som-uniques.html
CLASS:PUBLIC
END:VEVENT
END:VCALENDAR
