BEGIN:VCALENDAR
VERSION:2.0
CALSCALE:GREGORIAN
PRODID:-//Diputació de Barcelona//DibaCMS//EN
BEGIN:VEVENT
UID:28947
DTSTAMP:20260423T161618
DTSTART:20240419T200000
DTEND:20240419T200000
SUMMARY:Acte. XVII Nit de l'Esport
LOCATION:Teatre Municipal Cooperativa - Barberà del Vallès 
METHOD:PUBLISH
X-WR-CALNAME:oac@montcada.org
X-WR-TIMEZONE:Europe/Madrid
DESCRIPTION:
URI:https://www.montcada.cat/ajuntament/govern/agenda-politica/hemeroteca-agenda-politica/acte-xvii-nit-de-lesport.html
CLASS:PUBLIC
END:VEVENT
END:VCALENDAR
