BEGIN:VCALENDAR
VERSION:2.0
CALSCALE:GREGORIAN
PRODID:-//Diputació de Barcelona//DibaCMS//EN
BEGIN:VEVENT
UID:28943
DTSTAMP:20260423T040551
DTSTART:20240416T183000
DTEND:20240416T183000
SUMMARY:Reunió. José Jiménez, president agrupació Protecció Civil
LOCATION:Carrer Major, 32 - Carrer Domènec Fins, 15 08110 Montcada i Reixac
METHOD:PUBLISH
X-WR-CALNAME:oac@montcada.org
X-WR-TIMEZONE:Europe/Madrid
DESCRIPTION:
URI:https://www.montcada.cat/ajuntament/govern/agenda-politica/hemeroteca-agenda-politica/reunio-jose-jimenez-president-agrupacio-proteccio-civil.html
CLASS:PUBLIC
END:VEVENT
END:VCALENDAR
