BEGIN:VCALENDAR
VERSION:2.0
CALSCALE:GREGORIAN
PRODID:-//Diputació de Barcelona//DibaCMS//EN
BEGIN:VEVENT
UID:28937
DTSTAMP:20260423T145559
DTSTART:20240421T100000
DTEND:20240421T100000
SUMMARY:Acte. II Festival de la Infància i Juvenil
LOCATION:camí de la Font Freda 08110 Montcada i Reixac
METHOD:PUBLISH
X-WR-CALNAME:oac@montcada.org
X-WR-TIMEZONE:Europe/Madrid
DESCRIPTION:
URI:https://www.montcada.cat/ajuntament/govern/agenda-politica/hemeroteca-agenda-politica/acte-ii-festival-de-la-infancia-i-juvenil.html
CLASS:PUBLIC
END:VEVENT
END:VCALENDAR
