BEGIN:VCALENDAR
VERSION:2.0
CALSCALE:GREGORIAN
PRODID:-//Diputació de Barcelona//DibaCMS//EN
BEGIN:VEVENT
UID:28936
DTSTAMP:20260423T160957
DTSTART:20240420T190000
DTEND:20240420T190000
SUMMARY:5a Nit de Poesia i Música - Memorial Ramon Bueno
LOCATION:Carretera de la Vallençana, km 7  08110 Montcada i Reixac
METHOD:PUBLISH
X-WR-CALNAME:oac@montcada.org
X-WR-TIMEZONE:Europe/Madrid
DESCRIPTION:
URI:https://www.montcada.cat/ajuntament/govern/agenda-politica/hemeroteca-agenda-politica/5a-nit-de-poesia-i-musica-memorial-ramon-bueno.html
CLASS:PUBLIC
END:VEVENT
END:VCALENDAR
