BEGIN:VCALENDAR
VERSION:2.0
CALSCALE:GREGORIAN
PRODID:-//Diputació de Barcelona//DibaCMS//EN
BEGIN:VEVENT
UID:28934
DTSTAMP:20260423T051523
DTSTART:20240419T180000
DTEND:20240419T180000
SUMMARY:Acte. Lliurament premis Guanya't un Punt 2024
LOCATION:08110 Montcada i Reixac
METHOD:PUBLISH
X-WR-CALNAME:oac@montcada.org
X-WR-TIMEZONE:Europe/Madrid
DESCRIPTION:
URI:https://www.montcada.cat/ajuntament/govern/agenda-politica/hemeroteca-agenda-politica/acte-lliurament-premis-guanyat-un-punt-2024.html
CLASS:PUBLIC
END:VEVENT
END:VCALENDAR
