BEGIN:VCALENDAR
VERSION:2.0
CALSCALE:GREGORIAN
PRODID:-//Diputació de Barcelona//DibaCMS//EN
BEGIN:VEVENT
UID:28912
DTSTAMP:20260423T084509
DTSTART:20240414T100000
DTEND:20240414T100000
SUMMARY:Acte. 2a cursa diversitat
LOCATION:camí de la Font Freda 08110 Montcada i Reixac
METHOD:PUBLISH
X-WR-CALNAME:oac@montcada.org
X-WR-TIMEZONE:Europe/Madrid
DESCRIPTION:
URI:https://www.montcada.cat/ajuntament/govern/agenda-politica/hemeroteca-agenda-politica/acte-2a-cursa-diversitat.html
CLASS:PUBLIC
END:VEVENT
END:VCALENDAR
