BEGIN:VCALENDAR
VERSION:2.0
CALSCALE:GREGORIAN
PRODID:-//Diputació de Barcelona//DibaCMS//EN
BEGIN:VEVENT
UID:28911
DTSTAMP:20260423T052107
DTSTART:20240413T100000
DTEND:20240413T100000
SUMMARY:Acte. Jornada meditació, ioga i benestar
LOCATION:Carrer Tarragona, 2       08110 Montcada i Reixac
METHOD:PUBLISH
X-WR-CALNAME:oac@montcada.org
X-WR-TIMEZONE:Europe/Madrid
DESCRIPTION:
URI:https://www.montcada.cat/ajuntament/govern/agenda-politica/hemeroteca-agenda-politica/acte-jornada-meditacio-ioga-i-benestar.html
CLASS:PUBLIC
END:VEVENT
END:VCALENDAR
