BEGIN:VCALENDAR
VERSION:2.0
CALSCALE:GREGORIAN
PRODID:-//Diputació de Barcelona//DibaCMS//EN
BEGIN:VEVENT
UID:28805
DTSTAMP:20260423T100200
DTSTART:20240415T160000
DTEND:20240415T160000
SUMMARY:Visita. Oscar Sierra, alcalde de La Llagosta
LOCATION:Av. de la Unitat, 6 08110  Montcada i Reixac
METHOD:PUBLISH
X-WR-CALNAME:oac@montcada.org
X-WR-TIMEZONE:Europe/Madrid
DESCRIPTION:
URI:https://www.montcada.cat/ajuntament/govern/agenda-politica/hemeroteca-agenda-politica/visita-oscar-sierra-alcalde-de-la-llagosta.html
CLASS:PUBLIC
END:VEVENT
END:VCALENDAR
