BEGIN:VCALENDAR
VERSION:2.0
CALSCALE:GREGORIAN
PRODID:-//Diputació de Barcelona//DibaCMS//EN
BEGIN:VEVENT
UID:28794
DTSTAMP:20260423T051950
DTSTART:20240413T120000
DTEND:20240413T120000
SUMMARY:Acte. Dia del Soci Associació Gent Gran Parc Salvador Allende
LOCATION:Parc Salvador Allende, s/n 08110 Montcada i Reixac
METHOD:PUBLISH
X-WR-CALNAME:oac@montcada.org
X-WR-TIMEZONE:Europe/Madrid
DESCRIPTION:
URI:https://www.montcada.cat/ajuntament/govern/agenda-politica/hemeroteca-agenda-politica/acte-dia-del-soci-associacio-gent-gran-parc-salvador-allende.html
CLASS:PUBLIC
END:VEVENT
END:VCALENDAR
