BEGIN:VCALENDAR
VERSION:2.0
CALSCALE:GREGORIAN
PRODID:-//Diputació de Barcelona//DibaCMS//EN
BEGIN:VEVENT
UID:28793
DTSTAMP:20260423T040832
DTSTART:20240406T190000
DTEND:20240406T190000
SUMMARY:Acte. Festa fi del Ramadà i portes obertes mesquita
LOCATION:
METHOD:PUBLISH
X-WR-CALNAME:oac@montcada.org
X-WR-TIMEZONE:Europe/Madrid
DESCRIPTION:
URI:https://www.montcada.cat/ajuntament/govern/agenda-politica/hemeroteca-agenda-politica/acte-festa-fi-del-ramada-i-portes-obertes-mesquita.html
CLASS:PUBLIC
END:VEVENT
END:VCALENDAR
