BEGIN:VCALENDAR
VERSION:2.0
CALSCALE:GREGORIAN
PRODID:-//Diputació de Barcelona//DibaCMS//EN
BEGIN:VEVENT
UID:28688
DTSTAMP:20260423T052032
DTSTART:20240426T120000
DTEND:20240426T120000
SUMMARY:Acte. Dia de les Esquadres
LOCATION:Carrer Tarragona, 32       08110 Montcada i Reixac
METHOD:PUBLISH
X-WR-CALNAME:oac@montcada.org
X-WR-TIMEZONE:Europe/Madrid
DESCRIPTION:
URI:https://www.montcada.cat/ajuntament/govern/agenda-politica/hemeroteca-agenda-politica/acte-dia-de-les-esquadres.html
CLASS:PUBLIC
END:VEVENT
END:VCALENDAR
